BEGIN:VCALENDAR
PRODID:-//sitepark/sitekit//3.0/EN
VERSION:2.0
CALSCALE:GREGORIAN
BEGIN:VEVENT
UID:45623-0
DTSTAMP:20260421T095437Z
SUMMARY:Einführungskurs „3D-Druck“
DESCRIPTION:
URL:http://www.neu-isenburg.de/veranstaltungskalender/veranstaltungen/haupt
 kalender/2026/2026_mai_juni_3D-Druck_Einfuehrungskurs
DTSTART:20260518T133000Z
DTEND:20260518T215900Z
LOCATION:Dreiherrnsteinplatz 3\, 63263 Neu-Isenburg
CATEGORIES:Gravenbruch,Stadtbibliothek
END:VEVENT
END:VCALENDAR
