BEGIN:VCALENDAR
PRODID:-//sitepark/sitekit//3.0/EN
VERSION:2.0
CALSCALE:GREGORIAN
BEGIN:VEVENT
UID:41801-0
DTSTAMP:20260421T084544Z
SUMMARY:Deutsche Quadballmeisterschaft 2025
DESCRIPTION:
URL:http://www.neu-isenburg.de/veranstaltungskalender/veranstaltungen/haupt
 kalender/Deutsche-Quadballmeisterschaft-2025
DTSTART:20251011T070000Z
DTEND:20251012T153000Z
LOCATION:Alicestraße 111\, 63263 Neu-Isenburg
CATEGORIES:Neu-Isenburg,Sport & Freizeit
END:VEVENT
END:VCALENDAR
