BEGIN:VCALENDAR
PRODID:-//sitepark/sitekit//3.0/EN
VERSION:2.0
CALSCALE:GREGORIAN
BEGIN:VEVENT
UID:45470-0
DTSTAMP:20260422T173235Z
SUMMARY:Filmmatinée zum IDAHOBIT
DESCRIPTION:
URL:http://www.neu-isenburg.de/veranstaltungskalender/veranstaltungen/haupt
 kalender/Filmmatin-e-zum-IDAHOBIT-
DTSTART:20260517T090000Z
DTEND:20260517T110000Z
LOCATION:Beethovenstraße 89 a\, 63263 Neu-Isenburg
CATEGORIES:Neu-Isenburg,Kino & Film,Frauen und Gleichstellung
END:VEVENT
END:VCALENDAR
